BEGIN:VCALENDAR
PRODID:Nexudus
VERSION:2.0
BEGIN:VTIMEZONE
TZID:Asia/Singapore
X-LIC-LOCATION:Asia/Singapore
BEGIN:STANDARD
DTSTART:19820101T010000
RRULE:FREQ=YEARLY;BYDAY=1FR;BYMONTH=1
TZNAME:+08
TZOFFSETFROM:+0900
TZOFFSETTO:+0800
END:STANDARD
END:VTIMEZONE
BEGIN:VEVENT
DESCRIPTION:\nEvent link: https://Hubud.spaces.nexudus.com/en/events/view/6
 94888619/entrepreneurial-think-thank--robin---the-next-bin\n
DTEND;TZID=Asia/Singapore:20180912T133000
DTSTAMP:20260422T222247Z
DTSTART;TZID=Asia/Singapore:20180912T123000
LOCATION:Hubud
SEQUENCE:0
SUMMARY:Entrepreneurial Think Thank: Robin - The Next Bin
UID:7f747ecb-2a00-479d-a64e-46b6d8da7a09
END:VEVENT
END:VCALENDAR
