BEGIN:VCALENDAR
PRODID:Nexudus
VERSION:2.0
BEGIN:VTIMEZONE
TZID:Asia/Singapore
X-LIC-LOCATION:Asia/Singapore
BEGIN:STANDARD
DTSTART:19820101T010000
RRULE:FREQ=YEARLY;BYDAY=1FR;BYMONTH=1
TZNAME:+08
TZOFFSETFROM:+0900
TZOFFSETTO:+0800
END:STANDARD
END:VTIMEZONE
BEGIN:VEVENT
DESCRIPTION:\nEvent link: https://Hubud.spaces.nexudus.com/en/events/view/6
 97353683/social-hour--tats-pre-launch-party\n
DTEND;TZID=Asia/Singapore:20180914T220000
DTSTAMP:20260423T030454Z
DTSTART;TZID=Asia/Singapore:20180914T190000
LOCATION:Hubud
SEQUENCE:0
SUMMARY:Social Hour: Tats Pre-launch Party
UID:e05e0a61-e6f8-4e66-a558-af2bf6f1eae8
END:VEVENT
END:VCALENDAR
