BEGIN:VCALENDAR
PRODID:Nexudus
VERSION:2.0
BEGIN:VTIMEZONE
TZID:Asia/Singapore
X-LIC-LOCATION:Asia/Singapore
BEGIN:STANDARD
DTSTART:19820101T010000
RRULE:FREQ=YEARLY;BYDAY=1FR;BYMONTH=1
TZNAME:+08
TZOFFSETFROM:+0900
TZOFFSETTO:+0800
END:STANDARD
END:VTIMEZONE
BEGIN:VEVENT
DESCRIPTION:\nEvent link: https://Hubud.spaces.nexudus.com/en/events/view/7
 08559854/think-thank--unlimited\n
DTEND;TZID=Asia/Singapore:20180919T133000
DTSTAMP:20260423T055135Z
DTSTART;TZID=Asia/Singapore:20180919T123000
LOCATION:Hubud
SEQUENCE:0
SUMMARY:Think Thank: Unlimited 
UID:f7759549-6875-4989-b333-c15481c6fa72
END:VEVENT
END:VCALENDAR
