BEGIN:VCALENDAR
PRODID:Nexudus
VERSION:2.0
BEGIN:VTIMEZONE
TZID:Asia/Singapore
X-LIC-LOCATION:Asia/Singapore
BEGIN:STANDARD
DTSTART:19820101T010000
RRULE:FREQ=YEARLY;BYDAY=1FR;BYMONTH=1
TZNAME:+08
TZOFFSETFROM:+0900
TZOFFSETTO:+0800
END:STANDARD
END:VTIMEZONE
BEGIN:VEVENT
DESCRIPTION:\nEvent link: https://Hubud.spaces.nexudus.com/en/events/view/7
 14558271/hubud-open-day-\n
DTEND;TZID=Asia/Singapore:20181004T170000
DTSTAMP:20260422T221238Z
DTSTART;TZID=Asia/Singapore:20181004T090000
LOCATION:Hubud
SEQUENCE:0
SUMMARY:Hubud Open Day!
UID:0fed05a1-8700-415b-b9cd-19a8a167de1e
END:VEVENT
END:VCALENDAR
