BEGIN:VCALENDAR
PRODID:Nexudus
VERSION:2.0
BEGIN:VTIMEZONE
TZID:Asia/Singapore
X-LIC-LOCATION:Asia/Singapore
BEGIN:STANDARD
DTSTART:19820101T010000
RRULE:FREQ=YEARLY;BYDAY=1FR;BYMONTH=1
TZNAME:+08
TZOFFSETFROM:+0900
TZOFFSETTO:+0800
END:STANDARD
END:VTIMEZONE
BEGIN:VEVENT
DESCRIPTION:\nEvent link: https://Hubud.spaces.nexudus.com/en/events/view/7
 37801064/skill-share--writing-tips-for-non-native-english-speakers\n
DTEND;TZID=Asia/Singapore:20181025T133000
DTSTAMP:20260423T012506Z
DTSTART;TZID=Asia/Singapore:20181025T123000
LOCATION:Hubud
SEQUENCE:0
SUMMARY:Skill Share: Writing Tips for Non-native English Speakers
UID:447ff146-629b-41fa-8726-6370e08abab6
END:VEVENT
END:VCALENDAR
