BEGIN:VCALENDAR
PRODID:Nexudus
VERSION:2.0
BEGIN:VTIMEZONE
TZID:Asia/Singapore
X-LIC-LOCATION:Asia/Singapore
BEGIN:STANDARD
DTSTART:19820101T010000
RRULE:FREQ=YEARLY;BYDAY=1FR;BYMONTH=1
TZNAME:+08
TZOFFSETFROM:+0900
TZOFFSETTO:+0800
END:STANDARD
END:VTIMEZONE
BEGIN:VEVENT
DESCRIPTION:\nEvent link: https://Hubud.spaces.nexudus.com/en/events/view/7
 45013314/skill-share--diy-branding--you-don-t-need-a-graphic-designer\n
DTEND;TZID=Asia/Singapore:20181026T133000
DTSTAMP:20260422T222114Z
DTSTART;TZID=Asia/Singapore:20181101T123000
LOCATION:Hubud
SEQUENCE:0
SUMMARY:Skill Share: DIY Branding. You Don’t Need a Graphic Designer
UID:5b12c7d6-07f6-48a0-b1a2-60f47c77c8aa
END:VEVENT
END:VCALENDAR
