BEGIN:VCALENDAR
PRODID:Nexudus
VERSION:2.0
BEGIN:VTIMEZONE
TZID:Asia/Singapore
X-LIC-LOCATION:Asia/Singapore
BEGIN:STANDARD
DTSTART:19820101T010000
RRULE:FREQ=YEARLY;BYDAY=1FR;BYMONTH=1
TZNAME:+08
TZOFFSETFROM:+0900
TZOFFSETTO:+0800
END:STANDARD
END:VTIMEZONE
BEGIN:VEVENT
DESCRIPTION:\nEvent link: https://Hubud.spaces.nexudus.com/en/events/view/7
 49599428/skill-share--how-vision-took-him-from-zero-to--250k-in-2-years\n
DTEND;TZID=Asia/Singapore:20181105T133000
DTSTAMP:20260423T042603Z
DTSTART;TZID=Asia/Singapore:20181105T123000
LOCATION:Hubud
SEQUENCE:0
SUMMARY:Skill Share: How Vision Took Him From Zero to $250K in 2 Years
UID:7b44e073-98d1-479d-8892-dca6ab784921
END:VEVENT
END:VCALENDAR
