BEGIN:VCALENDAR
PRODID:Nexudus
VERSION:2.0
BEGIN:VTIMEZONE
TZID:Asia/Singapore
X-LIC-LOCATION:Asia/Singapore
BEGIN:STANDARD
DTSTART:19820101T010000
RRULE:FREQ=YEARLY;BYDAY=1FR;BYMONTH=1
TZNAME:+08
TZOFFSETFROM:+0900
TZOFFSETTO:+0800
END:STANDARD
END:VTIMEZONE
BEGIN:VEVENT
DESCRIPTION:\nEvent link: https://Hubud.spaces.nexudus.com/en/events/view/7
 56237482/skill-share--think-cosmically--act-locally--work-digitally\n
DTEND;TZID=Asia/Singapore:20181115T133000
DTSTAMP:20260423T065533Z
DTSTART;TZID=Asia/Singapore:20181115T123000
LOCATION:Hubud
SEQUENCE:0
SUMMARY:Skill Share: Think Cosmically\, Act Locally\, Work Digitally
UID:b868ae55-abf2-452d-ac8f-0e706c335787
END:VEVENT
END:VCALENDAR
