BEGIN:VCALENDAR
PRODID:Nexudus
VERSION:2.0
BEGIN:VTIMEZONE
TZID:Asia/Singapore
X-LIC-LOCATION:Asia/Singapore
BEGIN:STANDARD
DTSTART:19820101T010000
RRULE:FREQ=YEARLY;BYDAY=1FR;BYMONTH=1
TZNAME:+08
TZOFFSETFROM:+0900
TZOFFSETTO:+0800
END:STANDARD
END:VTIMEZONE
BEGIN:VEVENT
DESCRIPTION:\nEvent link: https://Hubud.spaces.nexudus.com/en/events/view/7
 92260469/bali-bungkus--color-mastery-and-its-strategic-use\n
DTEND;TZID=Asia/Singapore:20181218T133000
DTSTAMP:20260423T000007Z
DTSTART;TZID=Asia/Singapore:20181218T123000
LOCATION:Hubud
SEQUENCE:0
SUMMARY:Bali Bungkus: Color Mastery And Its Strategic Use
UID:e9a854f3-fe1d-4d7c-b498-bc4c7c841921
END:VEVENT
END:VCALENDAR
