BEGIN:VCALENDAR
PRODID:Nexudus
VERSION:2.0
BEGIN:VTIMEZONE
TZID:Asia/Singapore
X-LIC-LOCATION:Asia/Singapore
BEGIN:STANDARD
DTSTART:19820101T010000
RRULE:FREQ=YEARLY;BYDAY=1FR;BYMONTH=1
TZNAME:+08
TZOFFSETFROM:+0900
TZOFFSETTO:+0800
END:STANDARD
END:VTIMEZONE
BEGIN:VEVENT
DESCRIPTION:\nEvent link: https://Hubud.spaces.nexudus.com/en/events/view/8
 08118383/therapeutic-thursday--yoga-at-hubud\n
DTEND;TZID=Asia/Singapore:20190110T170000
DTSTAMP:20260422T222223Z
DTSTART;TZID=Asia/Singapore:20190110T160000
LOCATION:Hubud
SEQUENCE:0
SUMMARY:Therapeutic Thursday: Yoga at Hubud
UID:7c8ee110-1a5d-4e5e-a2ec-d5c4b02e1a61
END:VEVENT
END:VCALENDAR
