BEGIN:VCALENDAR
PRODID:Nexudus
VERSION:2.0
BEGIN:VTIMEZONE
TZID:Asia/Singapore
X-LIC-LOCATION:Asia/Singapore
BEGIN:STANDARD
DTSTART:19820101T010000
RRULE:FREQ=YEARLY;BYDAY=1FR;BYMONTH=1
TZNAME:+08
TZOFFSETFROM:+0900
TZOFFSETTO:+0800
END:STANDARD
END:VTIMEZONE
BEGIN:VEVENT
DESCRIPTION:\nEvent link: https://Hubud.spaces.nexudus.com/en/events/view/8
 18547873/social-hour--dinner-at-hubud\n
DTEND;TZID=Asia/Singapore:20190225T200000
DTSTAMP:20260423T055135Z
DTSTART;TZID=Asia/Singapore:20190225T190000
LOCATION:Hubud
SEQUENCE:0
SUMMARY:Social Hour: Dinner at Hubud
UID:f4cb2bbd-d350-4e4e-a733-7f2990da6fb5
END:VEVENT
END:VCALENDAR
