BEGIN:VCALENDAR
PRODID:Nexudus
VERSION:2.0
BEGIN:VTIMEZONE
TZID:Asia/Singapore
X-LIC-LOCATION:Asia/Singapore
BEGIN:STANDARD
DTSTART:19820101T010000
RRULE:FREQ=YEARLY;BYDAY=1FR;BYMONTH=1
TZNAME:+08
TZOFFSETFROM:+0900
TZOFFSETTO:+0800
END:STANDARD
END:VTIMEZONE
BEGIN:VEVENT
DESCRIPTION:\nEvent link: https://Hubud.spaces.nexudus.com/en/events/view/9
 34297364/bali-bungkus--roadmap-to-launching-an-ecommerce-business\n
DTEND;TZID=Asia/Singapore:20190305T133000
DTSTAMP:20260422T222059Z
DTSTART;TZID=Asia/Singapore:20190305T123000
LOCATION:Hubud
SEQUENCE:0
SUMMARY:Bali Bungkus: Roadmap to Launching an Ecommerce Business
UID:d63e87c9-3d92-4ef4-a9c7-969265d0d25f
END:VEVENT
END:VCALENDAR
