BEGIN:VCALENDAR
PRODID:Nexudus
VERSION:2.0
BEGIN:VTIMEZONE
TZID:Asia/Singapore
X-LIC-LOCATION:Asia/Singapore
BEGIN:STANDARD
DTSTART:19820101T010000
RRULE:FREQ=YEARLY;BYDAY=1FR;BYMONTH=1
TZNAME:+08
TZOFFSETFROM:+0900
TZOFFSETTO:+0800
END:STANDARD
END:VTIMEZONE
BEGIN:VEVENT
DESCRIPTION:\nEvent link: https://Hubud.spaces.nexudus.com/en/events/view/9
 74029112/skill-share--increase-your-sales-with-customer-journey\n
DTEND;TZID=Asia/Singapore:20190401T183000
DTSTAMP:20260422T221935Z
DTSTART;TZID=Asia/Singapore:20190415T173000
LOCATION:Hubud
SEQUENCE:0
SUMMARY:Skill Share: Increase your Sales with Customer Journey
UID:3caf7888-fd40-4735-b657-42a351ec2599
END:VEVENT
END:VCALENDAR
