BEGIN:VCALENDAR
PRODID:Nexudus
VERSION:2.0
BEGIN:VTIMEZONE
TZID:Asia/Singapore
X-LIC-LOCATION:Asia/Singapore
BEGIN:STANDARD
DTSTART:19820101T010000
RRULE:FREQ=YEARLY;BYDAY=1FR;BYMONTH=1
TZNAME:+08
TZOFFSETFROM:+0900
TZOFFSETTO:+0800
END:STANDARD
END:VTIMEZONE
BEGIN:VEVENT
DESCRIPTION:\nEvent link: https://Hubud.spaces.nexudus.com/en/events/view/9
 88903022/skill-share--api-for-beginners\n
DTEND;TZID=Asia/Singapore:20190422T183000
DTSTAMP:20260423T012628Z
DTSTART;TZID=Asia/Singapore:20190422T170000
LOCATION:Hubud
SEQUENCE:0
SUMMARY:Skill Share: API for Beginners
UID:bcba72c6-ae0c-4d1e-80b5-eb4b2cf04525
END:VEVENT
END:VCALENDAR
